BEGIN:VCALENDAR
VERSION:2.0
PRODID:-//READ Foundation - ECPv6.15.17//NONSGML v1.0//EN
CALSCALE:GREGORIAN
METHOD:PUBLISH
X-ORIGINAL-URL:https://leadtoachieve.org
X-WR-CALDESC:Events for READ Foundation
REFRESH-INTERVAL;VALUE=DURATION:PT1H
X-Robots-Tag:noindex
X-PUBLISHED-TTL:PT1H
BEGIN:VTIMEZONE
TZID:UTC
BEGIN:STANDARD
TZOFFSETFROM:+0000
TZOFFSETTO:+0000
TZNAME:UTC
DTSTART:20210101T000000
END:STANDARD
END:VTIMEZONE
BEGIN:VEVENT
DTSTART;TZID=UTC:20220613T080000
DTEND;TZID=UTC:20220630T080000
DTSTAMP:20260421T081539
CREATED:20220927T020617Z
LAST-MODIFIED:20220927T112222Z
UID:1754-1655107200-1656576000@leadtoachieve.org
SUMMARY:Robotics and Drones
DESCRIPTION:Three weeks long Robotics and Drone camp. \nStudents build different robots and drones and activate these components. \nStudents learn the different uses of robotics and drones as well as a coding component.
URL:https://leadtoachieve.org/event/robotics-and-drones/
CATEGORIES:Seminars
ATTACH;FMTTYPE=image/jpeg:https://leadtoachieve.org/wp-content/uploads/2022/09/read1.jpg
END:VEVENT
END:VCALENDAR